BEGIN:VCALENDAR
VERSION:2.0
PRODID:-//Lumiseek - ECPv6.15.20//NONSGML v1.0//EN
CALSCALE:GREGORIAN
METHOD:PUBLISH
X-WR-CALNAME:Lumiseek
X-ORIGINAL-URL:https://lumiseek.com
X-WR-CALDESC:Events for Lumiseek
REFRESH-INTERVAL;VALUE=DURATION:PT1H
X-Robots-Tag:noindex
X-PUBLISHED-TTL:PT1H
BEGIN:VTIMEZONE
TZID:Asia/Kolkata
BEGIN:STANDARD
TZOFFSETFROM:+0530
TZOFFSETTO:+0530
TZNAME:IST
DTSTART:20230101T000000
END:STANDARD
END:VTIMEZONE
BEGIN:VEVENT
DTSTART;TZID=Asia/Kolkata:20241121T110000
DTEND;TZID=Asia/Kolkata:20241121T123000
DTSTAMP:20260425T025144
CREATED:20241119T082334Z
LAST-MODIFIED:20241119T082334Z
UID:2464-1732186800-1732192200@lumiseek.com
SUMMARY:Wisdom Talks| Finance 101 | Social
DESCRIPTION:Ideal for M\,F > 55
URL:https://lumiseek.com/event/wisdom-talks-finance-101-social/
END:VEVENT
BEGIN:VEVENT
DTSTART;TZID=Asia/Kolkata:20241121T090000
DTEND;TZID=Asia/Kolkata:20241121T094500
DTSTAMP:20260425T025144
CREATED:20241119T071921Z
LAST-MODIFIED:20241119T071921Z
UID:2437-1732179600-1732182300@lumiseek.com
SUMMARY:Pilates for Women | Wellness
DESCRIPTION:Ideal for F< 55
URL:https://lumiseek.com/event/pilates-for-women-wellness-2/
END:VEVENT
BEGIN:VEVENT
DTSTART;TZID=Asia/Kolkata:20241121T070000
DTEND;TZID=Asia/Kolkata:20241121T080000
DTSTAMP:20260425T025144
CREATED:20241119T105439Z
LAST-MODIFIED:20241119T105439Z
UID:2556-1732172400-1732176000@lumiseek.com
SUMMARY:Strength Yoga | Wellness
DESCRIPTION:Ideal for M\,F < 55
URL:https://lumiseek.com/event/strength-yoga-wellness-4/
CATEGORIES:Strength Yoga | Wellness
END:VEVENT
BEGIN:VEVENT
DTSTART;TZID=Asia/Kolkata:20241121T060000
DTEND;TZID=Asia/Kolkata:20241121T070000
DTSTAMP:20260425T025144
CREATED:20241119T102429Z
LAST-MODIFIED:20241119T102429Z
UID:2534-1732168800-1732172400@lumiseek.com
SUMMARY:Gentle Yoga | Wellness
DESCRIPTION:Ideal for M\,F 55+
URL:https://lumiseek.com/event/gentle-yoga-wellness-4/
CATEGORIES:Gentle Yoga | Wellness
END:VEVENT
BEGIN:VEVENT
DTSTART;TZID=Asia/Kolkata:20241120T180000
DTEND;TZID=Asia/Kolkata:20241120T190000
DTSTAMP:20260425T025144
CREATED:20241119T085235Z
LAST-MODIFIED:20241119T085235Z
UID:2494-1732125600-1732129200@lumiseek.com
SUMMARY:HIIT Fitness | Wellness
DESCRIPTION:Ideal for M\,F < 55
URL:https://lumiseek.com/event/hiit-fitness-wellness/
END:VEVENT
BEGIN:VEVENT
DTSTART;TZID=Asia/Kolkata:20241120T170000
DTEND;TZID=Asia/Kolkata:20241120T180000
DTSTAMP:20260425T025144
CREATED:20241119T084734Z
LAST-MODIFIED:20241119T084734Z
UID:2482-1732122000-1732125600@lumiseek.com
SUMMARY:Strength for Seniors | Wellness
DESCRIPTION:Ideal for M\,F > 55
URL:https://lumiseek.com/event/strength-for-seniors-wellness/
END:VEVENT
BEGIN:VEVENT
DTSTART;TZID=Asia/Kolkata:20241120T160000
DTEND;TZID=Asia/Kolkata:20241120T170000
DTSTAMP:20260425T025144
CREATED:20241119T105250Z
LAST-MODIFIED:20241119T105250Z
UID:2554-1732118400-1732122000@lumiseek.com
SUMMARY:Guided Meditation | Wellness
DESCRIPTION:Ideal for M\, F > 55
URL:https://lumiseek.com/event/guided-meditation-wellness-5/
CATEGORIES:Guided Meditation | Wellness
END:VEVENT
BEGIN:VEVENT
DTSTART;TZID=Asia/Kolkata:20241120T133000
DTEND;TZID=Asia/Kolkata:20241120T153000
DTSTAMP:20260425T025144
CREATED:20241119T082714Z
LAST-MODIFIED:20241119T082714Z
UID:2472-1732109400-1732116600@lumiseek.com
SUMMARY:HnH Clinic | Health
DESCRIPTION:
URL:https://lumiseek.com/event/hnh-clinic-health/
END:VEVENT
BEGIN:VEVENT
DTSTART;TZID=Asia/Kolkata:20241120T110000
DTEND;TZID=Asia/Kolkata:20241120T123000
DTSTAMP:20260425T025144
CREATED:20241119T082241Z
LAST-MODIFIED:20241119T082241Z
UID:2462-1732100400-1732105800@lumiseek.com
SUMMARY:Group Physio Active Session| Health
DESCRIPTION:Ideal for M\,F > 55
URL:https://lumiseek.com/event/group-physio-active-session-health/
END:VEVENT
BEGIN:VEVENT
DTSTART;TZID=Asia/Kolkata:20241120T094500
DTEND;TZID=Asia/Kolkata:20241120T104500
DTSTAMP:20260425T025144
CREATED:20241119T075312Z
LAST-MODIFIED:20241119T075312Z
UID:2454-1732095900-1732099500@lumiseek.com
SUMMARY:Pilates for Women | Wellness
DESCRIPTION:Ideal for F< 55
URL:https://lumiseek.com/event/pilates-for-women-wellness-5/
END:VEVENT
BEGIN:VEVENT
DTSTART;TZID=Asia/Kolkata:20241120T090000
DTEND;TZID=Asia/Kolkata:20241120T094500
DTSTAMP:20260425T025144
CREATED:20241119T105128Z
LAST-MODIFIED:20241119T105128Z
UID:2552-1732093200-1732095900@lumiseek.com
SUMMARY:Guided Meditation | Wellness
DESCRIPTION:Ideal for M > 55
URL:https://lumiseek.com/event/guided-meditation-wellness-4/
CATEGORIES:Guided Meditation | Wellness
END:VEVENT
BEGIN:VEVENT
DTSTART;TZID=Asia/Kolkata:20241120T070000
DTEND;TZID=Asia/Kolkata:20241120T080000
DTSTAMP:20260425T025144
CREATED:20241119T105010Z
LAST-MODIFIED:20241119T105010Z
UID:2550-1732086000-1732089600@lumiseek.com
SUMMARY:Strength Yoga | Wellness
DESCRIPTION:Ideal for M\,F < 55
URL:https://lumiseek.com/event/strength-yoga-wellness-3/
CATEGORIES:Strength Yoga | Wellness
END:VEVENT
BEGIN:VEVENT
DTSTART;TZID=Asia/Kolkata:20241120T060000
DTEND;TZID=Asia/Kolkata:20241120T070000
DTSTAMP:20260425T025144
CREATED:20241119T102333Z
LAST-MODIFIED:20241119T102333Z
UID:2532-1732082400-1732086000@lumiseek.com
SUMMARY:Gentle Yoga | Wellness
DESCRIPTION:Ideal for M\,F 55+
URL:https://lumiseek.com/event/gentle-yoga-wellness-3/
CATEGORIES:Gentle Yoga | Wellness
END:VEVENT
BEGIN:VEVENT
DTSTART;TZID=Asia/Kolkata:20241119T200000
DTEND;TZID=Asia/Kolkata:20241119T210000
DTSTAMP:20260425T025144
CREATED:20241119T085938Z
LAST-MODIFIED:20241119T085938Z
UID:2510-1732046400-1732050000@lumiseek.com
SUMMARY:Game Night | Card & Board Games | Social
DESCRIPTION:Ideal for M\,F < 55
URL:https://lumiseek.com/event/game-night-card-board-games-social/
END:VEVENT
BEGIN:VEVENT
DTSTART;TZID=Asia/Kolkata:20241119T190000
DTEND;TZID=Asia/Kolkata:20241119T200000
DTSTAMP:20260425T025144
CREATED:20241119T085658Z
LAST-MODIFIED:20241119T085658Z
UID:2504-1732042800-1732046400@lumiseek.com
SUMMARY:Wisdom Talks| Personal Travel Stories | Social
DESCRIPTION:Ideal for M\,F > 55
URL:https://lumiseek.com/event/wisdom-talks-personal-travel-stories-social-2/
END:VEVENT
BEGIN:VEVENT
DTSTART;TZID=Asia/Kolkata:20241119T180000
DTEND;TZID=Asia/Kolkata:20241119T190000
DTSTAMP:20260425T025144
CREATED:20241119T085158Z
LAST-MODIFIED:20241119T085158Z
UID:2492-1732039200-1732042800@lumiseek.com
SUMMARY:Functional Fitness | Wellness
DESCRIPTION:Ideal for M\,F < 55
URL:https://lumiseek.com/event/functional-fitness-wellness/
END:VEVENT
BEGIN:VEVENT
DTSTART;TZID=Asia/Kolkata:20241119T170000
DTEND;TZID=Asia/Kolkata:20241119T180000
DTSTAMP:20260425T025144
CREATED:20241119T084642Z
LAST-MODIFIED:20241119T084642Z
UID:2480-1732035600-1732039200@lumiseek.com
SUMMARY:Nutritional Counseling | Wellness
DESCRIPTION:Ideal for F all age groups
URL:https://lumiseek.com/event/nutritional-counseling-wellness/
END:VEVENT
BEGIN:VEVENT
DTSTART;TZID=Asia/Kolkata:20241119T160000
DTEND;TZID=Asia/Kolkata:20241119T170000
DTSTAMP:20260425T025144
CREATED:20241119T104847Z
LAST-MODIFIED:20241119T104847Z
UID:2548-1732032000-1732035600@lumiseek.com
SUMMARY:Guided Meditation | Wellness
DESCRIPTION:Ideal for M\, F > 55
URL:https://lumiseek.com/event/guided-meditation-wellness-3/
CATEGORIES:Guided Meditation | Wellness
END:VEVENT
BEGIN:VEVENT
DTSTART;TZID=Asia/Kolkata:20241119T110000
DTEND;TZID=Asia/Kolkata:20241119T123000
DTSTAMP:20260425T025144
CREATED:20241119T082155Z
LAST-MODIFIED:20241119T082155Z
UID:2460-1732014000-1732019400@lumiseek.com
SUMMARY:Ladies Lounge| Social
DESCRIPTION:Ideal for F > 55
URL:https://lumiseek.com/event/ladies-lounge-social/
END:VEVENT
BEGIN:VEVENT
DTSTART;TZID=Asia/Kolkata:20241119T090000
DTEND;TZID=Asia/Kolkata:20241119T094500
DTSTAMP:20260425T025144
CREATED:20241119T071243Z
LAST-MODIFIED:20241119T071243Z
UID:2428-1732006800-1732009500@lumiseek.com
SUMMARY:Pilates for Women | Wellness
DESCRIPTION:Ideal for F< 55
URL:https://lumiseek.com/event/pilates-for-women-wellness/
END:VEVENT
BEGIN:VEVENT
DTSTART;TZID=Asia/Kolkata:20241119T070000
DTEND;TZID=Asia/Kolkata:20241119T080000
DTSTAMP:20260425T025144
CREATED:20241119T104744Z
LAST-MODIFIED:20241119T104744Z
UID:2546-1731999600-1732003200@lumiseek.com
SUMMARY:Strength Yoga | Wellness
DESCRIPTION:Ideal for M\,F < 55
URL:https://lumiseek.com/event/strength-yoga-wellness-2/
CATEGORIES:Strength Yoga | Wellness
END:VEVENT
BEGIN:VEVENT
DTSTART;TZID=Asia/Kolkata:20241119T060000
DTEND;TZID=Asia/Kolkata:20241119T070000
DTSTAMP:20260425T025144
CREATED:20241119T102231Z
LAST-MODIFIED:20241119T102231Z
UID:2530-1731996000-1731999600@lumiseek.com
SUMMARY:Gentle Yoga | Wellness
DESCRIPTION:Ideal for M\,F 55+
URL:https://lumiseek.com/event/gentle-yoga-wellness-2/
CATEGORIES:Gentle Yoga | Wellness
END:VEVENT
BEGIN:VEVENT
DTSTART;TZID=Asia/Kolkata:20241118T180000
DTEND;TZID=Asia/Kolkata:20241118T190000
DTSTAMP:20260425T025144
CREATED:20241119T085112Z
LAST-MODIFIED:20241119T085112Z
UID:2490-1731952800-1731956400@lumiseek.com
SUMMARY:Tea & Tranquility| Social
DESCRIPTION:Ideal for F all ages
URL:https://lumiseek.com/event/tea-tranquility-social/
END:VEVENT
BEGIN:VEVENT
DTSTART;TZID=Asia/Kolkata:20241118T170000
DTEND;TZID=Asia/Kolkata:20241118T180000
DTSTAMP:20260425T025144
CREATED:20241119T082948Z
LAST-MODIFIED:20241119T082948Z
UID:2477-1731949200-1731952800@lumiseek.com
SUMMARY:HnH Clinic | Health
DESCRIPTION:
URL:https://lumiseek.com/event/hnh-clinic-health-3/
END:VEVENT
BEGIN:VEVENT
DTSTART;TZID=Asia/Kolkata:20241118T160000
DTEND;TZID=Asia/Kolkata:20241118T170000
DTSTAMP:20260425T025144
CREATED:20241119T104553Z
LAST-MODIFIED:20241119T104553Z
UID:2544-1731945600-1731949200@lumiseek.com
SUMMARY:Guided Meditation | Wellness
DESCRIPTION:Ideal for M\, F > 55
URL:https://lumiseek.com/event/guided-meditation-wellness-2/
CATEGORIES:Guided Meditation | Wellness
END:VEVENT
BEGIN:VEVENT
DTSTART;TZID=Asia/Kolkata:20241118T110000
DTEND;TZID=Asia/Kolkata:20241118T123000
DTSTAMP:20260425T025144
CREATED:20241119T075929Z
LAST-MODIFIED:20241119T075929Z
UID:2458-1731927600-1731933000@lumiseek.com
SUMMARY:Wisdom Talks| Personal Travel Stories | Social
DESCRIPTION:Ideal for M\,F > 55
URL:https://lumiseek.com/event/wisdom-talks-personal-travel-stories-social/
CATEGORIES:Wisdom Talks| Personal Travel Stories | Social
END:VEVENT
BEGIN:VEVENT
DTSTART;TZID=Asia/Kolkata:20241118T094500
DTEND;TZID=Asia/Kolkata:20241118T104500
DTSTAMP:20260425T025144
CREATED:20241119T074804Z
LAST-MODIFIED:20241119T074804Z
UID:2449-1731923100-1731926700@lumiseek.com
SUMMARY:Pilates for Women | Wellness
DESCRIPTION:
URL:https://lumiseek.com/event/pilates-for-women-wellness-4/
END:VEVENT
BEGIN:VEVENT
DTSTART;TZID=Asia/Kolkata:20241118T090000
DTEND;TZID=Asia/Kolkata:20241118T094500
DTSTAMP:20260425T025144
CREATED:20241119T104433Z
LAST-MODIFIED:20241119T104433Z
UID:2542-1731920400-1731923100@lumiseek.com
SUMMARY:Guided Meditation | Wellness
DESCRIPTION:Ideal for M > 55
URL:https://lumiseek.com/event/guided-meditation-wellness/
CATEGORIES:Guided Meditation | Wellness
END:VEVENT
BEGIN:VEVENT
DTSTART;TZID=Asia/Kolkata:20241118T070000
DTEND;TZID=Asia/Kolkata:20241118T080000
DTSTAMP:20260425T025144
CREATED:20241119T103517Z
LAST-MODIFIED:20241119T103517Z
UID:2539-1731913200-1731916800@lumiseek.com
SUMMARY:Strength Yoga | Wellness
DESCRIPTION:Ideal for M\,F < 55
URL:https://lumiseek.com/event/strength-yoga-wellness/
CATEGORIES:Strength Yoga | Wellness
END:VEVENT
BEGIN:VEVENT
DTSTART;TZID=Asia/Kolkata:20241118T060000
DTEND;TZID=Asia/Kolkata:20241118T070000
DTSTAMP:20260425T025144
CREATED:20241119T101836Z
LAST-MODIFIED:20241119T101836Z
UID:2528-1731909600-1731913200@lumiseek.com
SUMMARY:Gentle Yoga | Wellness
DESCRIPTION:Ideal for M\,F 55+
URL:https://lumiseek.com/event/gentle-yoga-wellness/
CATEGORIES:Gentle Yoga | Wellness
END:VEVENT
END:VCALENDAR