BEGIN:VCALENDAR
VERSION:2.0
PRODID:-//Lumiseek - ECPv6.15.20//NONSGML v1.0//EN
CALSCALE:GREGORIAN
METHOD:PUBLISH
X-WR-CALNAME:Lumiseek
X-ORIGINAL-URL:https://lumiseek.com
X-WR-CALDESC:Events for Lumiseek
REFRESH-INTERVAL;VALUE=DURATION:PT1H
X-Robots-Tag:noindex
X-PUBLISHED-TTL:PT1H
BEGIN:VTIMEZONE
TZID:Asia/Kolkata
BEGIN:STANDARD
TZOFFSETFROM:+0530
TZOFFSETTO:+0530
TZNAME:IST
DTSTART:20230101T000000
END:STANDARD
END:VTIMEZONE
BEGIN:VEVENT
DTSTART;TZID=Asia/Kolkata:20241124T200000
DTEND;TZID=Asia/Kolkata:20241124T210000
DTSTAMP:20260424T214230
CREATED:20241119T090314Z
LAST-MODIFIED:20241119T090314Z
UID:2518-1732478400-1732482000@lumiseek.com
SUMMARY:Retro Night | Themed Party | Social
DESCRIPTION:Ideal for M\,F < 55
URL:https://lumiseek.com/event/retro-night-themed-party-social/
END:VEVENT
BEGIN:VEVENT
DTSTART;TZID=Asia/Kolkata:20241124T180000
DTEND;TZID=Asia/Kolkata:20241124T190000
DTSTAMP:20260424T214230
CREATED:20241119T085555Z
LAST-MODIFIED:20241119T085555Z
UID:2502-1732471200-1732474800@lumiseek.com
SUMMARY:Functional Fitness | Wellness
DESCRIPTION:Ideal for M\,F < 55
URL:https://lumiseek.com/event/functional-fitness-wellness-3/
END:VEVENT
BEGIN:VEVENT
DTSTART;TZID=Asia/Kolkata:20241124T170000
DTEND;TZID=Asia/Kolkata:20241124T180000
DTSTAMP:20260424T214230
CREATED:20241119T085020Z
LAST-MODIFIED:20241119T085020Z
UID:2488-1732467600-1732471200@lumiseek.com
SUMMARY:Nutritional Counseling | Wellness
DESCRIPTION:Ideal for F all age groups
URL:https://lumiseek.com/event/nutritional-counseling-wellness-2/
END:VEVENT
BEGIN:VEVENT
DTSTART;TZID=Asia/Kolkata:20241124T110000
DTEND;TZID=Asia/Kolkata:20241124T123000
DTSTAMP:20260424T214230
CREATED:20241119T082617Z
LAST-MODIFIED:20241119T082617Z
UID:2470-1732446000-1732451400@lumiseek.com
SUMMARY:Group Physio Active Session| Health
DESCRIPTION:Ideal for M\,F > 55
URL:https://lumiseek.com/event/group-physio-active-session-health-2/
END:VEVENT
BEGIN:VEVENT
DTSTART;TZID=Asia/Kolkata:20241124T090000
DTEND;TZID=Asia/Kolkata:20241124T094500
DTSTAMP:20260424T214230
CREATED:20241119T113726Z
LAST-MODIFIED:20241119T113726Z
UID:2582-1732438800-1732441500@lumiseek.com
SUMMARY:Guided Meditation | Wellness
DESCRIPTION:Ideal for M > 55
URL:https://lumiseek.com/event/guided-meditation-wellness-9/
CATEGORIES:Guided Meditation | Wellness
END:VEVENT
BEGIN:VEVENT
DTSTART;TZID=Asia/Kolkata:20241124T070000
DTEND;TZID=Asia/Kolkata:20241124T080000
DTSTAMP:20260424T214230
CREATED:20241119T113633Z
LAST-MODIFIED:20241119T113633Z
UID:2580-1732431600-1732435200@lumiseek.com
SUMMARY:Strength Yoga | Wellness
DESCRIPTION:Ideal for M\,F < 55
URL:https://lumiseek.com/event/strength-yoga-wellness-7/
CATEGORIES:Strength Yoga | Wellness
END:VEVENT
BEGIN:VEVENT
DTSTART;TZID=Asia/Kolkata:20241124T060000
DTEND;TZID=Asia/Kolkata:20241124T070000
DTSTAMP:20260424T214230
CREATED:20241119T113544Z
LAST-MODIFIED:20241119T113544Z
UID:2578-1732428000-1732431600@lumiseek.com
SUMMARY:Gentle Yoga | Wellness
DESCRIPTION:Ideal for M\,F 55+
URL:https://lumiseek.com/event/gentle-yoga-wellness-7/
CATEGORIES:Gentle Yoga | Wellness
END:VEVENT
BEGIN:VEVENT
DTSTART;TZID=Asia/Kolkata:20241123T200000
DTEND;TZID=Asia/Kolkata:20241123T210000
DTSTAMP:20260424T214230
CREATED:20241119T090220Z
LAST-MODIFIED:20241119T090220Z
UID:2516-1732392000-1732395600@lumiseek.com
SUMMARY:Game Night | Card & Board Games | Social
DESCRIPTION:Ideal for M\,F > 55
URL:https://lumiseek.com/event/game-night-card-board-games-social-2/
END:VEVENT
BEGIN:VEVENT
DTSTART;TZID=Asia/Kolkata:20241123T180000
DTEND;TZID=Asia/Kolkata:20241123T190000
DTSTAMP:20260424T214230
CREATED:20241119T085512Z
LAST-MODIFIED:20241119T085512Z
UID:2500-1732384800-1732388400@lumiseek.com
SUMMARY:HIITFitness | Wellness
DESCRIPTION:Ideal for M\,F < 55
URL:https://lumiseek.com/event/hiitfitness-wellness/
END:VEVENT
BEGIN:VEVENT
DTSTART;TZID=Asia/Kolkata:20241123T170000
DTEND;TZID=Asia/Kolkata:20241123T180000
DTSTAMP:20260424T214230
CREATED:20241119T112617Z
LAST-MODIFIED:20241119T112617Z
UID:2576-1732381200-1732384800@lumiseek.com
SUMMARY:Strength for Seniors | Wellness
DESCRIPTION:Ideal for M\,F > 55
URL:https://lumiseek.com/event/strength-for-seniors-wellness-3/
END:VEVENT
BEGIN:VEVENT
DTSTART;TZID=Asia/Kolkata:20241123T133000
DTEND;TZID=Asia/Kolkata:20241123T153000
DTSTAMP:20260424T214230
CREATED:20241119T082753Z
LAST-MODIFIED:20241119T082753Z
UID:2474-1732368600-1732375800@lumiseek.com
SUMMARY:HnH Clinic | Health
DESCRIPTION:
URL:https://lumiseek.com/event/hnh-clinic-health-2/
END:VEVENT
BEGIN:VEVENT
DTSTART;TZID=Asia/Kolkata:20241123T110000
DTEND;TZID=Asia/Kolkata:20241123T123000
DTSTAMP:20260424T214230
CREATED:20241119T082522Z
LAST-MODIFIED:20241119T082522Z
UID:2468-1732359600-1732365000@lumiseek.com
SUMMARY:Wisdom Talks| Tech Hacks | Social
DESCRIPTION:Ideal for M\,F > 55
URL:https://lumiseek.com/event/wisdom-talks-tech-hacks-social/
END:VEVENT
BEGIN:VEVENT
DTSTART;TZID=Asia/Kolkata:20241123T090000
DTEND;TZID=Asia/Kolkata:20241123T094500
DTSTAMP:20260424T214230
CREATED:20241119T072108Z
LAST-MODIFIED:20241119T072108Z
UID:2441-1732352400-1732355100@lumiseek.com
SUMMARY:Pilates for Women | Wellness
DESCRIPTION:Ideal for F< 55
URL:https://lumiseek.com/event/pilates-for-women-wellness-3/
END:VEVENT
BEGIN:VEVENT
DTSTART;TZID=Asia/Kolkata:20241123T070000
DTEND;TZID=Asia/Kolkata:20241123T080000
DTSTAMP:20260424T214230
CREATED:20241119T112452Z
LAST-MODIFIED:20241119T112452Z
UID:2574-1732345200-1732348800@lumiseek.com
SUMMARY:Strength Yoga | Wellness
DESCRIPTION:Ideal for M\,F < 55
URL:https://lumiseek.com/event/strength-yoga-wellness-6/
CATEGORIES:Strength Yoga | Wellness
END:VEVENT
BEGIN:VEVENT
DTSTART;TZID=Asia/Kolkata:20241123T060000
DTEND;TZID=Asia/Kolkata:20241123T070000
DTSTAMP:20260424T214230
CREATED:20241119T112358Z
LAST-MODIFIED:20241119T112358Z
UID:2572-1732341600-1732345200@lumiseek.com
SUMMARY:Gentle Yoga | Wellness
DESCRIPTION:Ideal for M\,F 55+
URL:https://lumiseek.com/event/gentle-yoga-wellness-6/
CATEGORIES:Gentle Yoga | Wellness
END:VEVENT
BEGIN:VEVENT
DTSTART;TZID=Asia/Kolkata:20241122T200000
DTEND;TZID=Asia/Kolkata:20241122T210000
DTSTAMP:20260424T214230
CREATED:20241119T090128Z
LAST-MODIFIED:20241119T090128Z
UID:2514-1732305600-1732309200@lumiseek.com
SUMMARY:Karaoke Nights | Social
DESCRIPTION:Ideal for M\,F > 55
URL:https://lumiseek.com/event/karaoke-nights-social-2/
END:VEVENT
BEGIN:VEVENT
DTSTART;TZID=Asia/Kolkata:20241122T190000
DTEND;TZID=Asia/Kolkata:20241122T200000
DTSTAMP:20260424T214230
CREATED:20241119T085845Z
LAST-MODIFIED:20241119T085845Z
UID:2508-1732302000-1732305600@lumiseek.com
SUMMARY:Wisdom Talks| Personal Travel Stories | Social
DESCRIPTION:Ideal for M\,F > 55
URL:https://lumiseek.com/event/wisdom-talks-personal-travel-stories-social-3/
END:VEVENT
BEGIN:VEVENT
DTSTART;TZID=Asia/Kolkata:20241122T180000
DTEND;TZID=Asia/Kolkata:20241122T190000
DTSTAMP:20260424T214230
CREATED:20241119T085427Z
LAST-MODIFIED:20241119T085427Z
UID:2498-1732298400-1732302000@lumiseek.com
SUMMARY:Functional Fitness | Wellness
DESCRIPTION:Ideal for M\,F < 55
URL:https://lumiseek.com/event/functional-fitness-wellness-2/
END:VEVENT
BEGIN:VEVENT
DTSTART;TZID=Asia/Kolkata:20241122T170000
DTEND;TZID=Asia/Kolkata:20241122T180000
DTSTAMP:20260424T214230
CREATED:20241119T112248Z
LAST-MODIFIED:20241119T112248Z
UID:2569-1732294800-1732298400@lumiseek.com
SUMMARY:Strength for Seniors | Wellness
DESCRIPTION:Ideal for M\,F > 55
URL:https://lumiseek.com/event/strength-for-seniors-wellness-2/
END:VEVENT
BEGIN:VEVENT
DTSTART;TZID=Asia/Kolkata:20241122T160000
DTEND;TZID=Asia/Kolkata:20241122T170000
DTSTAMP:20260424T214230
CREATED:20241119T112159Z
LAST-MODIFIED:20241119T112159Z
UID:2567-1732291200-1732294800@lumiseek.com
SUMMARY:Guided Meditation | Wellness
DESCRIPTION:Ideal for M\, F > 55
URL:https://lumiseek.com/event/guided-meditation-wellness-8/
CATEGORIES:Guided Meditation | Wellness
END:VEVENT
BEGIN:VEVENT
DTSTART;TZID=Asia/Kolkata:20241122T110000
DTEND;TZID=Asia/Kolkata:20241122T123000
DTSTAMP:20260424T214230
CREATED:20241119T082426Z
LAST-MODIFIED:20241119T082426Z
UID:2466-1732273200-1732278600@lumiseek.com
SUMMARY:Ladies Lounge| Social
DESCRIPTION:Ideal for F > 55
URL:https://lumiseek.com/event/ladies-lounge-social-2/
END:VEVENT
BEGIN:VEVENT
DTSTART;TZID=Asia/Kolkata:20241122T094500
DTEND;TZID=Asia/Kolkata:20241122T104500
DTSTAMP:20260424T214230
CREATED:20241119T075631Z
LAST-MODIFIED:20241119T075631Z
UID:2456-1732268700-1732272300@lumiseek.com
SUMMARY:Pilates for Women | Wellness
DESCRIPTION:Ideal for F< 55
URL:https://lumiseek.com/event/pilates-for-women-wellness-6/
END:VEVENT
BEGIN:VEVENT
DTSTART;TZID=Asia/Kolkata:20241122T090000
DTEND;TZID=Asia/Kolkata:20241122T094500
DTSTAMP:20260424T214230
CREATED:20241119T105938Z
LAST-MODIFIED:20241119T105938Z
UID:2564-1732266000-1732268700@lumiseek.com
SUMMARY:Guided Meditation | Wellness
DESCRIPTION:Ideal for M > 55
URL:https://lumiseek.com/event/guided-meditation-wellness-7/
CATEGORIES:Guided Meditation | Wellness
END:VEVENT
BEGIN:VEVENT
DTSTART;TZID=Asia/Kolkata:20241122T070000
DTEND;TZID=Asia/Kolkata:20241122T080000
DTSTAMP:20260424T214230
CREATED:20241119T105813Z
LAST-MODIFIED:20241119T105813Z
UID:2562-1732258800-1732262400@lumiseek.com
SUMMARY:Strength Yoga | Wellness
DESCRIPTION:Ideal for M\,F < 55
URL:https://lumiseek.com/event/strength-yoga-wellness-5/
CATEGORIES:Strength Yoga | Wellness
END:VEVENT
BEGIN:VEVENT
DTSTART;TZID=Asia/Kolkata:20241122T060000
DTEND;TZID=Asia/Kolkata:20241122T070000
DTSTAMP:20260424T214230
CREATED:20241119T105716Z
LAST-MODIFIED:20241119T105716Z
UID:2560-1732255200-1732258800@lumiseek.com
SUMMARY:Gentle Yoga | Wellness
DESCRIPTION:Ideal for M\,F 55+
URL:https://lumiseek.com/event/gentle-yoga-wellness-5/
CATEGORIES:Gentle Yoga | Wellness
END:VEVENT
BEGIN:VEVENT
DTSTART;TZID=Asia/Kolkata:20241121T200000
DTEND;TZID=Asia/Kolkata:20241121T210000
DTSTAMP:20260424T214230
CREATED:20241119T090037Z
LAST-MODIFIED:20241119T090037Z
UID:2512-1732219200-1732222800@lumiseek.com
SUMMARY:Weekly Guest & Gather| Gardening Workshop | Social
DESCRIPTION:Ideal for M\,F < 55
URL:https://lumiseek.com/event/weekly-guest-gather-gardening-workshop-social/
END:VEVENT
BEGIN:VEVENT
DTSTART;TZID=Asia/Kolkata:20241121T190000
DTEND;TZID=Asia/Kolkata:20241121T200000
DTSTAMP:20260424T214230
CREATED:20241119T085756Z
LAST-MODIFIED:20241119T085756Z
UID:2506-1732215600-1732219200@lumiseek.com
SUMMARY:Karaoke Nights | Social
DESCRIPTION:Ideal for M\,F > 55
URL:https://lumiseek.com/event/karaoke-nights-social/
END:VEVENT
BEGIN:VEVENT
DTSTART;TZID=Asia/Kolkata:20241121T180000
DTEND;TZID=Asia/Kolkata:20241121T190000
DTSTAMP:20260424T214230
CREATED:20241119T085328Z
LAST-MODIFIED:20241119T085328Z
UID:2496-1732212000-1732215600@lumiseek.com
SUMMARY:Tea & Tranquility| Social
DESCRIPTION:Ideal for F all ages
URL:https://lumiseek.com/event/tea-tranquility-social-2/
END:VEVENT
BEGIN:VEVENT
DTSTART;TZID=Asia/Kolkata:20241121T170000
DTEND;TZID=Asia/Kolkata:20241121T180000
DTSTAMP:20260424T214230
CREATED:20241119T084817Z
LAST-MODIFIED:20241119T084817Z
UID:2484-1732208400-1732212000@lumiseek.com
SUMMARY:HnH Clinic | Health
DESCRIPTION:
URL:https://lumiseek.com/event/hnh-clinic-health-4/
END:VEVENT
BEGIN:VEVENT
DTSTART;TZID=Asia/Kolkata:20241121T160000
DTEND;TZID=Asia/Kolkata:20241121T170000
DTSTAMP:20260424T214230
CREATED:20241119T105610Z
LAST-MODIFIED:20241119T105610Z
UID:2558-1732204800-1732208400@lumiseek.com
SUMMARY:Guided Meditation | Wellness
DESCRIPTION:Ideal for M\, F > 55
URL:https://lumiseek.com/event/guided-meditation-wellness-6/
CATEGORIES:Guided Meditation | Wellness
END:VEVENT
END:VCALENDAR