BEGIN:VCALENDAR
VERSION:2.0
PRODID:-//Lumiseek - ECPv6.15.20//NONSGML v1.0//EN
CALSCALE:GREGORIAN
METHOD:PUBLISH
X-ORIGINAL-URL:https://lumiseek.com
X-WR-CALDESC:Events for Lumiseek
REFRESH-INTERVAL;VALUE=DURATION:PT1H
X-Robots-Tag:noindex
X-PUBLISHED-TTL:PT1H
BEGIN:VTIMEZONE
TZID:Asia/Kolkata
BEGIN:STANDARD
TZOFFSETFROM:+0530
TZOFFSETTO:+0530
TZNAME:IST
DTSTART:20230101T000000
END:STANDARD
END:VTIMEZONE
BEGIN:VEVENT
DTSTART;TZID=Asia/Kolkata:20241124T090000
DTEND;TZID=Asia/Kolkata:20241124T094500
DTSTAMP:20260425T025559
CREATED:20241119T113726Z
LAST-MODIFIED:20241119T113726Z
UID:2582-1732438800-1732441500@lumiseek.com
SUMMARY:Guided Meditation | Wellness
DESCRIPTION:Ideal for M > 55
URL:https://lumiseek.com/event/guided-meditation-wellness-9/
CATEGORIES:Guided Meditation | Wellness
END:VEVENT
BEGIN:VEVENT
DTSTART;TZID=Asia/Kolkata:20241122T160000
DTEND;TZID=Asia/Kolkata:20241122T170000
DTSTAMP:20260425T025559
CREATED:20241119T112159Z
LAST-MODIFIED:20241119T112159Z
UID:2567-1732291200-1732294800@lumiseek.com
SUMMARY:Guided Meditation | Wellness
DESCRIPTION:Ideal for M\, F > 55
URL:https://lumiseek.com/event/guided-meditation-wellness-8/
CATEGORIES:Guided Meditation | Wellness
END:VEVENT
BEGIN:VEVENT
DTSTART;TZID=Asia/Kolkata:20241122T090000
DTEND;TZID=Asia/Kolkata:20241122T094500
DTSTAMP:20260425T025559
CREATED:20241119T105938Z
LAST-MODIFIED:20241119T105938Z
UID:2564-1732266000-1732268700@lumiseek.com
SUMMARY:Guided Meditation | Wellness
DESCRIPTION:Ideal for M > 55
URL:https://lumiseek.com/event/guided-meditation-wellness-7/
CATEGORIES:Guided Meditation | Wellness
END:VEVENT
BEGIN:VEVENT
DTSTART;TZID=Asia/Kolkata:20241121T160000
DTEND;TZID=Asia/Kolkata:20241121T170000
DTSTAMP:20260425T025559
CREATED:20241119T105610Z
LAST-MODIFIED:20241119T105610Z
UID:2558-1732204800-1732208400@lumiseek.com
SUMMARY:Guided Meditation | Wellness
DESCRIPTION:Ideal for M\, F > 55
URL:https://lumiseek.com/event/guided-meditation-wellness-6/
CATEGORIES:Guided Meditation | Wellness
END:VEVENT
BEGIN:VEVENT
DTSTART;TZID=Asia/Kolkata:20241120T160000
DTEND;TZID=Asia/Kolkata:20241120T170000
DTSTAMP:20260425T025559
CREATED:20241119T105250Z
LAST-MODIFIED:20241119T105250Z
UID:2554-1732118400-1732122000@lumiseek.com
SUMMARY:Guided Meditation | Wellness
DESCRIPTION:Ideal for M\, F > 55
URL:https://lumiseek.com/event/guided-meditation-wellness-5/
CATEGORIES:Guided Meditation | Wellness
END:VEVENT
BEGIN:VEVENT
DTSTART;TZID=Asia/Kolkata:20241120T090000
DTEND;TZID=Asia/Kolkata:20241120T094500
DTSTAMP:20260425T025559
CREATED:20241119T105128Z
LAST-MODIFIED:20241119T105128Z
UID:2552-1732093200-1732095900@lumiseek.com
SUMMARY:Guided Meditation | Wellness
DESCRIPTION:Ideal for M > 55
URL:https://lumiseek.com/event/guided-meditation-wellness-4/
CATEGORIES:Guided Meditation | Wellness
END:VEVENT
BEGIN:VEVENT
DTSTART;TZID=Asia/Kolkata:20241119T160000
DTEND;TZID=Asia/Kolkata:20241119T170000
DTSTAMP:20260425T025559
CREATED:20241119T104847Z
LAST-MODIFIED:20241119T104847Z
UID:2548-1732032000-1732035600@lumiseek.com
SUMMARY:Guided Meditation | Wellness
DESCRIPTION:Ideal for M\, F > 55
URL:https://lumiseek.com/event/guided-meditation-wellness-3/
CATEGORIES:Guided Meditation | Wellness
END:VEVENT
BEGIN:VEVENT
DTSTART;TZID=Asia/Kolkata:20241118T160000
DTEND;TZID=Asia/Kolkata:20241118T170000
DTSTAMP:20260425T025559
CREATED:20241119T104553Z
LAST-MODIFIED:20241119T104553Z
UID:2544-1731945600-1731949200@lumiseek.com
SUMMARY:Guided Meditation | Wellness
DESCRIPTION:Ideal for M\, F > 55
URL:https://lumiseek.com/event/guided-meditation-wellness-2/
CATEGORIES:Guided Meditation | Wellness
END:VEVENT
BEGIN:VEVENT
DTSTART;TZID=Asia/Kolkata:20241118T090000
DTEND;TZID=Asia/Kolkata:20241118T094500
DTSTAMP:20260425T025559
CREATED:20241119T104433Z
LAST-MODIFIED:20241119T104433Z
UID:2542-1731920400-1731923100@lumiseek.com
SUMMARY:Guided Meditation | Wellness
DESCRIPTION:Ideal for M > 55
URL:https://lumiseek.com/event/guided-meditation-wellness/
CATEGORIES:Guided Meditation | Wellness
END:VEVENT
END:VCALENDAR